Workbook
Name _______AD1: #REF!
Name _______AD2: #REF!
Name ______AD1: #REF!
Name ______AD2: #REF!
Name _____AD1: #REF!
Name _____AD2: #REF!
Name _____KS1: #REF!
Name _____KS2: #REF!
Name _____KS3: #REF!
Name ____AD1: #REF!
Name ____AD2: #REF!
Name ____KS1: #REF!
Name ____KS2: #REF!
Name ____KS3: #REF!
Name ____lea95: #REF!
Name ____lea96: #REF!
Name ____lea97: #REF!
Name ____lea98: #REF!
Name ____lu9495: #REF!
Name ____lu9596: #REF!
Name ____lu9697: #REF!
Name ____Num2: #REF!
Name ____pup1: #REF!
Name ____pup2: #REF!
Name ____RO1: #REF!
Name ___AD1: #REF!
Name ___AD2: #REF!
Name ___KS1: #REF!
Name ___KS2: #REF!
Name ___KS3: #REF!
Name ___lea95: #REF!
Name ___lea96: #REF!
Name ___lea97: #REF!
Name ___lea98: #REF!
Name ___lu9495: #REF!
Name ___lu9596: #REF!
Name ___lu9697: #REF!
Name ___Num2: #REF!
Name ___pup1: #REF!
Name ___pup2: #REF!
Name ___RO1: #REF!
Name __AD1: #REF!
Name __AD2: #REF!
Name __KS1: #REF!
Name __KS2: #REF!
Name __KS3: #REF!
Name __lea95: #REF!
Name __lea96: #REF!
Name __lea97: #REF!
Name __lea98: #REF!
Name __lu9495: #REF!
Name __lu9596: #REF!
Name __lu9697: #REF!
Name __Num2: #REF!
Name __pup1: #REF!
Name __pup2: #REF!
Name __RO1: #REF!
Name _AD1: #REF!
Name _AD2: #REF!
Name _KS1: #REF!

Sheet Benchmarking Ratio's Comparison
A1: Local Benchmarking Data for Barnet Schools - As per Income and Expenditure in 2025-26 | AD1: =VLOOKUP(C2,'All Schools Data view only'!A:EC,61,0) -> #N/A
B2: DfE Number | C2: =VLOOKUP(C3,$B$422:$C$537,2,0) -> 9999 | D2: =VLOOKUP(D3,$B$422:$C$537,2,0) -> 9999 | E2: =VLOOKUP(E3,$B$422:$C$537,2,0) -> 9999 | F2: =VLOOKUP(F3,$B$422:$C$537,2,0) -> 9999 | AC2: nursery | AD2: primary | AE2: secondary | AF2: special | AG2: pru
A3: Please select a School | C3: Please choose a school | D3: Please choose a school | E3: Please choose a school | F3: Please choose a school | AC3: 1999 | AD3: 5999 | AE3: 6999 | AF3: 7999 | AG3: 8999
B5: Pupil Numbers | C5: =VLOOKUP(C2,'All Schools Data view only'!$A$4:$EC$94,65,0) -> #N/A | D5: =VLOOKUP(D2,'All Schools Data view only'!$A$4:$EC$94,65,0) -> #N/A | E5: =VLOOKUP(E2,'All Schools Data view only'!$A$4:$EC$94,65,0) -> #N/A | F5: =VLOOKUP(F2,'All Schools Data view only'!$A$4:$EC$94,65,0) -> #N/A
G6: Sector Averages
A7: Area | B7: Key Ratios | C7: School Data | D7: School Data | E7: School Data | F7: School Data | G7: Nursery | H7: Primary | I7: Secondary | J7: Special | K7: Pupil Referral Unit
A8: Income
A9: I01 - Funds Delegated by LA | B9: As % of Total Revenue Income | C9: =IF(ISERROR(VLOOKUP(C$2,'All Schools Data view only'!$A:$EC,68,0)),"",VLOOKUP(C$2,'All Schools Data view only'!$A:$EC,68,0)) | D9: =IF(ISERROR(VLOOKUP(D$2,'All Schools Data view only'!$A:$EC,68,0)),"",VLOOKUP(D$2,'All Schools Data view only'!$A:$EC,68,0)) | E9: =IF(ISERROR(VLOOKUP(E$2,'All Schools Data view only'!$A:$EC,68,0)),"",VLOOKUP(E$2,'All Schools Data view only'!$A:$EC,68,0)) | F9: =IF(ISERROR(VLOOKUP(F$2,'All Schools Data view only'!$A:$EC,68,0)),"",VLOOKUP(F$2,'All Schools Data view only'!$A:$EC,68,0)) | G9: =VLOOKUP(AC$3,'All Schools Data view only'!$A:$EC,68,0) -> 0.35657546 | H9: =VLOOKUP(AD$3,'All Schools Data view only'!$A:$EC,68,0) -> 0.74955796 | I9: =VLOOKUP(AE$3,'All Schools Data view only'!$A:$EC,68,0) -> 0.66841363 | J9: =VLOOKUP(AF$3,'All Schools Data view only'!$A:$EC,68,0) -> 0.36669039 | K9: =VLOOKUP(AG$3,'All Schools Data view only'!$A:$EC,68,0) -> 0.58120447
B10: Income per pupil | C10: =IF(ISERROR(VLOOKUP(C$2,'All Schools Data view only'!$A:$EC,69,0)),"",VLOOKUP(C$2,'All Schools Data view only'!$A:$EC,69,0)) | D10: =IF(ISERROR(VLOOKUP(D$2,'All Schools Data view only'!$A:$EC,69,0)),"",VLOOKUP(D$2,'All Schools Data view only'!$A:$EC,69,0)) | E10: =IF(ISERROR(VLOOKUP(E$2,'All Schools Data view only'!$A:$EC,69,0)),"",VLOOKUP(E$2,'All Schools Data view only'!$A:$EC,69,0)) | F10: =IF(ISERROR(VLOOKUP(F$2,'All Schools Data view only'!$A:$EC,69,0)),"",VLOOKUP(F$2,'All Schools Data view only'!$A:$EC,69,0)) | G10: =VLOOKUP(AC$3,'All Schools Data view only'!$A:$EC,69,0) -> 3882.8578 | H10: =VLOOKUP(AD$3,'All Schools Data view only'!$A:$EC,69,0) -> 6789.9642 | I10: =VLOOKUP(AE$3,'All Schools Data view only'!$A:$EC,69,0) -> 7913.3043 | J10: =VLOOKUP(AF$3,'All Schools Data view only'!$A:$EC,69,0) -> 17896.647 | K10: =VLOOKUP(AG$3,'All Schools Data view only'!$A:$EC,69,0) -> 67338.054
A12: I02 - Sixth form funding | B12: As % of Total Revenue Income | C12: =IF(ISERROR(VLOOKUP(C$2,'All Schools Data view only'!$A:$EC,70,0)),"",VLOOKUP(C$2,'All Schools Data view only'!$A:$EC,70,0)) | D12: =IF(ISERROR(VLOOKUP(D$2,'All Schools Data view only'!$A:$EC,70,0)),"",VLOOKUP(D$2,'All Schools Data view only'!$A:$EC,70,0)) | E12: =IF(ISERROR(VLOOKUP(E$2,'All Schools Data view only'!$A:$EC,70,0)),"",VLOOKUP(E$2,'All Schools Data view only'!$A:$EC,70,0)) | F12: =IF(ISERROR(VLOOKUP(F$2,'All Schools Data view only'!$A:$EC,70,0)),"",VLOOKUP(F$2,'All Schools Data view only'!$A:$EC,70,0)) | G12: =VLOOKUP(AC$3,'All Schools Data view only'!$A:$EC,70,0) -> 0 | H12: =VLOOKUP(AD$3,'All Schools Data view only'!$A:$EC,70,0) -> 0 | I12: =VLOOKUP(AE$3,'All Schools Data view only'!$A:$EC,70,0) -> 0.14137275 | J12: =VLOOKUP(AF$3,'All Schools Data view only'!$A:$EC,70,0) -> 0.00027897353 | K12: =VLOOKUP(AG$3,'All Schools Data view only'!$A:$EC,70,0) -> 0
B13: Income per pupil | C13: =IF(ISERROR(VLOOKUP(C$2,'All Schools Data view only'!$A:$EC,71,0)),"",VLOOKUP(C$2,'All Schools Data view only'!$A:$EC,71,0)) | D13: =IF(ISERROR(VLOOKUP(D$2,'All Schools Data view only'!$A:$EC,71,0)),"",VLOOKUP(D$2,'All Schools Data view only'!$A:$EC,71,0)) | E13: =IF(ISERROR(VLOOKUP(E$2,'All Schools Data view only'!$A:$EC,71,0)),"",VLOOKUP(E$2,'All Schools Data view only'!$A:$EC,71,0)) | F13: =IF(ISERROR(VLOOKUP(F$2,'All Schools Data view only'!$A:$EC,71,0)),"",VLOOKUP(F$2,'All Schools Data view only'!$A:$EC,71,0)) | G13: =VLOOKUP(AC$3,'All Schools Data view only'!$A:$EC,71,0) -> 0 | H13: =VLOOKUP(AD$3,'All Schools Data view only'!$A:$EC,71,0) -> 0 | I13: =VLOOKUP(AE$3,'All Schools Data view only'!$A:$EC,71,0) -> 1726.091 | J13: =VLOOKUP(AF$3,'All Schools Data view only'!$A:$EC,71,0) -> 18.638356 | K13: =VLOOKUP(AG$3,'All Schools Data view only'!$A:$EC,71,0) -> 0
A15: I03 - SEN Funding | B15: As % of Total Revenue Income | C15: =IF(ISERROR(VLOOKUP(C$2,'All Schools Data view only'!$A:$EC,72,0)),"",VLOOKUP(C$2,'All Schools Data view only'!$A:$EC,72,0)) | D15: =IF(ISERROR(VLOOKUP(D$2,'All Schools Data view only'!$A:$EC,72,0)),"",VLOOKUP(D$2,'All Schools Data view only'!$A:$EC,72,0)) | E15: =IF(ISERROR(VLOOKUP(E$2,'All Schools Data view only'!$A:$EC,72,0)),"",VLOOKUP(E$2,'All Schools Data view only'!$A:$EC,72,0)) | F15: =IF(ISERROR(VLOOKUP(F$2,'All Schools Data view only'!$A:$EC,72,0)),"",VLOOKUP(F$2,'All Schools Data view only'!$A:$EC,72,0)) | G15: =VLOOKUP(AC$3,'All Schools Data view only'!$A:$EC,72,0) -> 0.012045215 | H15: =VLOOKUP(AD$3,'All Schools Data view only'!$A:$EC,72,0) -> 0.070161525 | I15: =VLOOKUP(AE$3,'All Schools Data view only'!$A:$EC,72,0) -> 0.049360681 | J15: =VLOOKUP(AF$3,'All Schools Data view only'!$A:$EC,72,0) -> 0.56352359 | K15: =VLOOKUP(AG$3,'All Schools Data view only'!$A:$EC,72,0) -> 0.17374829
B16: Income per pupil | C16: =IF(ISERROR(VLOOKUP(C$2,'All Schools Data view only'!$A:$EC,73,0)),"",VLOOKUP(C$2,'All Schools Data view only'!$A:$EC,73,0)) | D16: =IF(ISERROR(VLOOKUP(D$2,'All Schools Data view only'!$A:$EC,73,0)),"",VLOOKUP(D$2,'All Schools Data view only'!$A:$EC,73,0)) | E16: =IF(ISERROR(VLOOKUP(E$2,'All Schools Data view only'!$A:$EC,73,0)),"",VLOOKUP(E$2,'All Schools Data view only'!$A:$EC,73,0)) | F16: =IF(ISERROR(VLOOKUP(F$2,'All Schools Data view only'!$A:$EC,73,0)),"",VLOOKUP(F$2,'All Schools Data view only'!$A:$EC,73,0)) | G16: =VLOOKUP(AC$3,'All Schools Data view only'!$A:$EC,73,0) -> 130.07018 | H16: =VLOOKUP(AD$3,'All Schools Data view only'!$A:$EC,73,0) -> 669.97914 | I16: =VLOOKUP(AE$3,'All Schools Data view only'!$A:$EC,73,0) -> 649.46559 | J16: =VLOOKUP(AF$3,'All Schools Data view only'!$A:$EC,73,0) -> 28747.553 | K16: =VLOOKUP(AG$3,'All Schools Data view only'!$A:$EC,73,0) -> 16406.781
A18: I05 - Pupil Premium | B18: As % of Total Revenue Income | C18: =IF(ISERROR(VLOOKUP(C$2,'All Schools Data view only'!$A:$EC,76,0)),"",VLOOKUP(C$2,'All Schools Data view only'!$A:$EC,76,0)) | D18: =IF(ISERROR(VLOOKUP(D$2,'All Schools Data view only'!$A:$EC,76,0)),"",VLOOKUP(D$2,'All Schools Data view only'!$A:$EC,76,0)) | E18: =IF(ISERROR(VLOOKUP(E$2,'All Schools Data view only'!$A:$EC,76,0)),"",VLOOKUP(E$2,'All Schools Data view only'!$A:$EC,76,0)) | F18: =IF(ISERROR(VLOOKUP(F$2,'All Schools Data view only'!$A:$EC,76,0)),"",VLOOKUP(F$2,'All Schools Data view only'!$A:$EC,76,0)) | G18: =VLOOKUP(AC$3,'All Schools Data view only'!$A:$EC,76,0) -> 0 | H18: =VLOOKUP(AD$3,'All Schools Data view only'!$A:$EC,76,0) -> 0.034005077 | I18: =VLOOKUP(AE$3,'All Schools Data view only'!$A:$EC,76,0) -> 0.018695049 | J18: =VLOOKUP(AF$3,'All Schools Data view only'!$A:$EC,76,0) -> 0.013853899 | K18: =VLOOKUP(AG$3,'All Schools Data view only'!$A:$EC,76,0) -> 0.0071038858
B19: Income per pupil | C19: =IF(ISERROR(VLOOKUP(C$2,'All Schools Data view only'!$A:$EC,77,0)),"",VLOOKUP(C$2,'All Schools Data view only'!$A:$EC,77,0)) | D19: =IF(ISERROR(VLOOKUP(D$2,'All Schools Data view only'!$A:$EC,77,0)),"",VLOOKUP(D$2,'All Schools Data view only'!$A:$EC,77,0)) | E19: =IF(ISERROR(VLOOKUP(E$2,'All Schools Data view only'!$A:$EC,77,0)),"",VLOOKUP(E$2,'All Schools Data view only'!$A:$EC,77,0)) | F19: =IF(ISERROR(VLOOKUP(F$2,'All Schools Data view only'!$A:$EC,77,0)),"",VLOOKUP(F$2,'All Schools Data view only'!$A:$EC,77,0)) | G19: =VLOOKUP(AC$3,'All Schools Data view only'!$A:$EC,77,0) -> 0 | H19: =VLOOKUP(AD$3,'All Schools Data view only'!$A:$EC,77,0) -> 309.47883 | I19: =VLOOKUP(AE$3,'All Schools Data view only'!$A:$EC,77,0) -> 205.13395 | J19: =VLOOKUP(AF$3,'All Schools Data view only'!$A:$EC,77,0) -> 642.72264 | K19: =VLOOKUP(AG$3,'All Schools Data view only'!$A:$EC,77,0) -> 753.16964
A21: I06 - Other Gov. Grants | B21: As % of Total Revenue Income | C21: =IF(ISERROR(VLOOKUP(C$2,'All Schools Data view only'!$A:$EC,78,0)),"",VLOOKUP(C$2,'All Schools Data view only'!$A:$EC,78,0)) | D21: =IF(ISERROR(VLOOKUP(D$2,'All Schools Data view only'!$A:$EC,78,0)),"",VLOOKUP(D$2,'All Schools Data view only'!$A:$EC,78,0)) | E21: =IF(ISERROR(VLOOKUP(E$2,'All Schools Data view only'!$A:$EC,78,0)),"",VLOOKUP(E$2,'All Schools Data view only'!$A:$EC,78,0)) | F21: =IF(ISERROR(VLOOKUP(F$2,'All Schools Data view only'!$A:$EC,78,0)),"",VLOOKUP(F$2,'All Schools Data view only'!$A:$EC,78,0)) | G21: =VLOOKUP(AC$3,'All Schools Data view only'!$A:$EC,78,0) -> 0 | H21: =VLOOKUP(AD$3,'All Schools Data view only'!$A:$EC,78,0) -> 0.028753972 | I21: =VLOOKUP(AE$3,'All Schools Data view only'!$A:$EC,78,0) -> 0.0061767172 | J21: =VLOOKUP(AF$3,'All Schools Data view only'!$A:$EC,78,0) -> 0.0060097131 | K21: =VLOOKUP(AG$3,'All Schools Data view only'!$A:$EC,78,0) -> -0.001611257
B22: Income per pupil | C22: =IF(ISERROR(VLOOKUP(C$2,'All Schools Data view only'!$A:$EC,79,0)),"",VLOOKUP(C$2,'All Schools Data view only'!$A:$EC,79,0)) | D22: =IF(ISERROR(VLOOKUP(D$2,'All Schools Data view only'!$A:$EC,79,0)),"",VLOOKUP(D$2,'All Schools Data view only'!$A:$EC,79,0)) | E22: =IF(ISERROR(VLOOKUP(E$2,'All Schools Data view only'!$A:$EC,79,0)),"",VLOOKUP(E$2,'All Schools Data view only'!$A:$EC,79,0)) | F22: =IF(ISERROR(VLOOKUP(F$2,'All Schools Data view only'!$A:$EC,79,0)),"",VLOOKUP(F$2,'All Schools Data view only'!$A:$EC,79,0)) | G22: =VLOOKUP(AC$3,'All Schools Data view only'!$A:$EC,79,0) -> 0 | H22: =VLOOKUP(AD$3,'All Schools Data view only'!$A:$EC,79,0) -> 264.84914 | I22: =VLOOKUP(AE$3,'All Schools Data view only'!$A:$EC,79,0) -> 85.102308 | J22: =VLOOKUP(AF$3,'All Schools Data view only'!$A:$EC,79,0) -> 394.71735 | K22: =VLOOKUP(AG$3,'All Schools Data view only'!$A:$EC,79,0) -> -132.76839
A24: I07 - Other Grants & Payments | B24: As % of Total Revenue Income | C24: =IF(ISERROR(VLOOKUP(C$2,'All Schools Data view only'!$A:$EC,80,0)),"",VLOOKUP(C$2,'All Schools Data view only'!$A:$EC,80,0)) | D24: =IF(ISERROR(VLOOKUP(D$2,'All Schools Data view only'!$A:$EC,80,0)),"",VLOOKUP(D$2,'All Schools Data view only'!$A:$EC,80,0)) | E24: =IF(ISERROR(VLOOKUP(E$2,'All Schools Data view only'!$A:$EC,80,0)),"",VLOOKUP(E$2,'All Schools Data view only'!$A:$EC,80,0)) | F24: =IF(ISERROR(VLOOKUP(F$2,'All Schools Data view only'!$A:$EC,80,0)),"",VLOOKUP(F$2,'All Schools Data view only'!$A:$EC,80,0)) | G24: =VLOOKUP(AC$3,'All Schools Data view only'!$A:$EC,80,0) -> 0.0020469809 | H24: =VLOOKUP(AD$3,'All Schools Data view only'!$A:$EC,80,0) -> 0.034148446 | I24: =VLOOKUP(AE$3,'All Schools Data view only'!$A:$EC,80,0) -> 0.00091502792 | J24: =VLOOKUP(AF$3,'All Schools Data view only'!$A:$EC,80,0) -> 0.0056868899 | K24: =VLOOKUP(AG$3,'All Schools Data view only'!$A:$EC,80,0) -> 0.0086298043
B25: Income per pupil | C25: =IF(ISERROR(VLOOKUP(C$2,'All Schools Data view only'!$A:$EC,81,0)),"",VLOOKUP(C$2,'All Schools Data view only'!$A:$EC,81,0)) | D25: =IF(ISERROR(VLOOKUP(D$2,'All Schools Data view only'!$A:$EC,81,0)),"",VLOOKUP(D$2,'All Schools Data view only'!$A:$EC,81,0)) | E25: =IF(ISERROR(VLOOKUP(E$2,'All Schools Data view only'!$A:$EC,81,0)),"",VLOOKUP(E$2,'All Schools Data view only'!$A:$EC,81,0)) | F25: =IF(ISERROR(VLOOKUP(F$2,'All Schools Data view only'!$A:$EC,81,0)),"",VLOOKUP(F$2,'All Schools Data view only'!$A:$EC,81,0)) | G25: =VLOOKUP(AC$3,'All Schools Data view only'!$A:$EC,81,0) -> 21.103835 | H25: =VLOOKUP(AD$3,'All Schools Data view only'!$A:$EC,81,0) -> 303.19416 | I25: =VLOOKUP(AE$3,'All Schools Data view only'!$A:$EC,81,0) -> 9.9653788 | J25: =VLOOKUP(AF$3,'All Schools Data view only'!$A:$EC,81,0) -> 293.5421 | K25: =VLOOKUP(AG$3,'All Schools Data view only'!$A:$EC,81,0) -> 793.45204
A27: I08a & I08b - Income from Facilities & Services | B27: As % of Total Revenue Income | C27: =IF(ISERROR(VLOOKUP(C$2,'All Schools Data view only'!$A:$EC,82,0)),"",VLOOKUP(C$2,'All Schools Data view only'!$A:$EC,82,0)) | D27: =IF(ISERROR(VLOOKUP(D$2,'All Schools Data view only'!$A:$EC,82,0)),"",VLOOKUP(D$2,'All Schools Data view only'!$A:$EC,82,0)) | E27: =IF(ISERROR(VLOOKUP(E$2,'All Schools Data view only'!$A:$EC,82,0)),"",VLOOKUP(E$2,'All Schools Data view only'!$A:$EC,82,0)) | F27: =IF(ISERROR(VLOOKUP(F$2,'All Schools Data view only'!$A:$EC,82,0)),"",VLOOKUP(F$2,'All Schools Data view only'!$A:$EC,82,0)) | G27: =VLOOKUP(AC$3,'All Schools Data view only'!$A:$EC,82,0) -> 0.0022814002 | H27: =VLOOKUP(AD$3,'All Schools Data view only'!$A:$EC,82,0) -> 0.027342238 | I27: =VLOOKUP(AE$3,'All Schools Data view only'!$A:$EC,82,0) -> 0.0033384904 | J27: =VLOOKUP(AF$3,'All Schools Data view only'!$A:$EC,82,0) -> 0.040867532 | K27: =VLOOKUP(AG$3,'All Schools Data view only'!$A:$EC,82,0) -> 0.23033844
B28: Income per pupil | C28: =IF(ISERROR(VLOOKUP(C$2,'All Schools Data view only'!$A:$EC,83,0)),"",VLOOKUP(C$2,'All Schools Data view only'!$A:$EC,83,0)) | D28: =IF(ISERROR(VLOOKUP(D$2,'All Schools Data view only'!$A:$EC,83,0)),"",VLOOKUP(D$2,'All Schools Data view only'!$A:$EC,83,0)) | E28: =IF(ISERROR(VLOOKUP(E$2,'All Schools Data view only'!$A:$EC,83,0)),"",VLOOKUP(E$2,'All Schools Data view only'!$A:$EC,83,0)) | F28: =IF(ISERROR(VLOOKUP(F$2,'All Schools Data view only'!$A:$EC,83,0)),"",VLOOKUP(F$2,'All Schools Data view only'!$A:$EC,83,0)) | G28: =VLOOKUP(AC$3,'All Schools Data view only'!$A:$EC,83,0) -> 23.318527 | H28: =VLOOKUP(AD$3,'All Schools Data view only'!$A:$EC,83,0) -> 244.91195 | I28: =VLOOKUP(AE$3,'All Schools Data view only'!$A:$EC,83,0) -> 38.897457 | J28: =VLOOKUP(AF$3,'All Schools Data view only'!$A:$EC,83,0) -> 1911.3499 | K28: =VLOOKUP(AG$3,'All Schools Data view only'!$A:$EC,83,0) -> 33286.399
A30: I12 - Income from Contributions | B30: As % of Total Revenue Income | C30: =IF(ISERROR(VLOOKUP(C$2,'All Schools Data view only'!$A:$EC,84,0)),"",VLOOKUP(C$2,'All Schools Data view only'!$A:$EC,84,0)) | D30: =IF(ISERROR(VLOOKUP(D$2,'All Schools Data view only'!$A:$EC,84,0)),"",VLOOKUP(D$2,'All Schools Data view only'!$A:$EC,84,0)) | E30: =IF(ISERROR(VLOOKUP(E$2,'All Schools Data view only'!$A:$EC,84,0)),"",VLOOKUP(E$2,'All Schools Data view only'!$A:$EC,84,0)) | F30: =IF(ISERROR(VLOOKUP(F$2,'All Schools Data view only'!$A:$EC,84,0)),"",VLOOKUP(F$2,'All Schools Data view only'!$A:$EC,84,0)) | G30: =VLOOKUP(AC$3,'All Schools Data view only'!$A:$EC,84,0) -> 0.12002526 | H30: =VLOOKUP(AD$3,'All Schools Data view only'!$A:$EC,84,0) -> 0.01786117 | I30: =VLOOKUP(AE$3,'All Schools Data view only'!$A:$EC,84,0) -> 0.025524925 | J30: =VLOOKUP(AF$3,'All Schools Data view only'!$A:$EC,84,0) -> 0.00024037401 | K30: =VLOOKUP(AG$3,'All Schools Data view only'!$A:$EC,84,0) -> 0.00014598698
B31: Income per pupil | C31: =IF(ISERROR(VLOOKUP(C$2,'All Schools Data view only'!$A:$EC,85,0)),"",VLOOKUP(C$2,'All Schools Data view only'!$A:$EC,85,0)) | D31: =IF(ISERROR(VLOOKUP(D$2,'All Schools Data view only'!$A:$EC,85,0)),"",VLOOKUP(D$2,'All Schools Data view only'!$A:$EC,85,0)) | E31: =IF(ISERROR(VLOOKUP(E$2,'All Schools Data view only'!$A:$EC,85,0)),"",VLOOKUP(E$2,'All Schools Data view only'!$A:$EC,85,0)) | F31: =IF(ISERROR(VLOOKUP(F$2,'All Schools Data view only'!$A:$EC,85,0)),"",VLOOKUP(F$2,'All Schools Data view only'!$A:$EC,85,0)) | G31: =VLOOKUP(AC$3,'All Schools Data view only'!$A:$EC,85,0) -> 1337.5022 | H31: =VLOOKUP(AD$3,'All Schools Data view only'!$A:$EC,85,0) -> 161.34342 | I31: =VLOOKUP(AE$3,'All Schools Data view only'!$A:$EC,85,0) -> 400.24165 | J31: =VLOOKUP(AF$3,'All Schools Data view only'!$A:$EC,85,0) -> 13.638983 | K31: =VLOOKUP(AG$3,'All Schools Data view only'!$A:$EC,85,0) -> 21.25744
A33: I13 - Donations | B33: As % of Total Revenue Income | C33: =IF(ISERROR(VLOOKUP(C$2,'All Schools Data view only'!$A:$EC,86,0)),"",VLOOKUP(C$2,'All Schools Data view only'!$A:$EC,86,0)) | D33: =IF(ISERROR(VLOOKUP(D$2,'All Schools Data view only'!$A:$EC,86,0)),"",VLOOKUP(D$2,'All Schools Data view only'!$A:$EC,86,0)) | E33: =IF(ISERROR(VLOOKUP(E$2,'All Schools Data view only'!$A:$EC,86,0)),"",VLOOKUP(E$2,'All Schools Data view only'!$A:$EC,86,0)) | F33: =IF(ISERROR(VLOOKUP(F$2,'All Schools Data view only'!$A:$EC,86,0)),"",VLOOKUP(F$2,'All Schools Data view only'!$A:$EC,86,0)) | G33: =VLOOKUP(AC$3,'All Schools Data view only'!$A:$EC,86,0) -> 0.0019006978 | H33: =VLOOKUP(AD$3,'All Schools Data view only'!$A:$EC,86,0) -> 0.032728283 | I33: =VLOOKUP(AE$3,'All Schools Data view only'!$A:$EC,86,0) -> 0.069406448 | J33: =VLOOKUP(AF$3,'All Schools Data view only'!$A:$EC,86,0) -> 0.0018971469 | K33: =VLOOKUP(AG$3,'All Schools Data view only'!$A:$EC,86,0) -> 0.00014378609
B34: Income per pupil | C34: =IF(ISERROR(VLOOKUP(C$2,'All Schools Data view only'!$A:$EC,87,0)),"",VLOOKUP(C$2,'All Schools Data view only'!$A:$EC,87,0)) | D34: =IF(ISERROR(VLOOKUP(D$2,'All Schools Data view only'!$A:$EC,87,0)),"",VLOOKUP(D$2,'All Schools Data view only'!$A:$EC,87,0)) | E34: =IF(ISERROR(VLOOKUP(E$2,'All Schools Data view only'!$A:$EC,87,0)),"",VLOOKUP(E$2,'All Schools Data view only'!$A:$EC,87,0)) | F34: =IF(ISERROR(VLOOKUP(F$2,'All Schools Data view only'!$A:$EC,87,0)),"",VLOOKUP(F$2,'All Schools Data view only'!$A:$EC,87,0)) | G34: =VLOOKUP(AC$3,'All Schools Data view only'!$A:$EC,87,0) -> 21.253124 | H34: =VLOOKUP(AD$3,'All Schools Data view only'!$A:$EC,87,0) -> 335.36901 | I34: =VLOOKUP(AE$3,'All Schools Data view only'!$A:$EC,87,0) -> 964.56061 | J34: =VLOOKUP(AF$3,'All Schools Data view only'!$A:$EC,87,0) -> 102.48052 | K34: =VLOOKUP(AG$3,'All Schools Data view only'!$A:$EC,87,0) -> 12.605655
A36: Expenditure
A37: E01,E02 & E26 - Teaching Staff | B37: As % of Final Budget Share | C37: =IF(ISERROR(VLOOKUP(C$2,'All Schools Data view only'!$A:$EC,88,0)),"",VLOOKUP(C$2,'All Schools Data view only'!$A:$EC,88,0)) | D37: =IF(ISERROR(VLOOKUP(D$2,'All Schools Data view only'!$A:$EC,88,0)),"",VLOOKUP(D$2,'All Schools Data view only'!$A:$EC,88,0)) | E37: =IF(ISERROR(VLOOKUP(E$2,'All Schools Data view only'!$A:$EC,88,0)),"",VLOOKUP(E$2,'All Schools Data view only'!$A:$EC,88,0)) | F37: =IF(ISERROR(VLOOKUP(F$2,'All Schools Data view only'!$A:$EC,88,0)),"",VLOOKUP(F$2,'All Schools Data view only'!$A:$EC,88,0)) | G37: =VLOOKUP(AC$3,'All Schools Data view only'!$A:$EC,88,0) -> 0.15325403 | H37: =VLOOKUP(AD$3,'All Schools Data view only'!$A:$EC,88,0) -> 0.57800268 | I37: =VLOOKUP(AE$3,'All Schools Data view only'!$A:$EC,88,0) -> 0.73243075 | J37: =VLOOKUP(AF$3,'All Schools Data view only'!$A:$EC,88,0) -> 0.36575714 | K37: =VLOOKUP(AG$3,'All Schools Data view only'!$A:$EC,88,0) -> 0.81291906
B38: As % of Total Rev. Income | C38: =IF(ISERROR(VLOOKUP(C$2,'All Schools Data view only'!$A:$EC,89,0)),"",VLOOKUP(C$2,'All Schools Data view only'!$A:$EC,89,0)) | D38: =IF(ISERROR(VLOOKUP(D$2,'All Schools Data view only'!$A:$EC,89,0)),"",VLOOKUP(D$2,'All Schools Data view only'!$A:$EC,89,0)) | E38: =IF(ISERROR(VLOOKUP(E$2,'All Schools Data view only'!$A:$EC,89,0)),"",VLOOKUP(E$2,'All Schools Data view only'!$A:$EC,89,0)) | F38: =IF(ISERROR(VLOOKUP(F$2,'All Schools Data view only'!$A:$EC,89,0)),"",VLOOKUP(F$2,'All Schools Data view only'!$A:$EC,89,0)) | G38: =VLOOKUP(AC$3,'All Schools Data view only'!$A:$EC,89,0) -> 0.10941076 | H38: =VLOOKUP(AD$3,'All Schools Data view only'!$A:$EC,89,0) -> 0.47108862 | I38: =VLOOKUP(AE$3,'All Schools Data view only'!$A:$EC,89,0) -> 0.62349898 | J38: =VLOOKUP(AF$3,'All Schools Data view only'!$A:$EC,89,0) -> 0.33863462 | K38: =VLOOKUP(AG$3,'All Schools Data view only'!$A:$EC,89,0) -> 0.59526218
B39: As % of Total Rev. Expenditure | C39: =IF(ISERROR(VLOOKUP(C$2,'All Schools Data view only'!$A:$EC,90,0)),"",VLOOKUP(C$2,'All Schools Data view only'!$A:$EC,90,0)) | D39: =IF(ISERROR(VLOOKUP(D$2,'All Schools Data view only'!$A:$EC,90,0)),"",VLOOKUP(D$2,'All Schools Data view only'!$A:$EC,90,0)) | E39: =IF(ISERROR(VLOOKUP(E$2,'All Schools Data view only'!$A:$EC,90,0)),"",VLOOKUP(E$2,'All Schools Data view only'!$A:$EC,90,0)) | F39: =IF(ISERROR(VLOOKUP(F$2,'All Schools Data view only'!$A:$EC,90,0)),"",VLOOKUP(F$2,'All Schools Data view only'!$A:$EC,90,0)) | G39: =VLOOKUP(AC$3,'All Schools Data view only'!$A:$EC,90,0) -> 0.10897944 | H39: =VLOOKUP(AD$3,'All Schools Data view only'!$A:$EC,90,0) -> 0.4603559 | I39: =VLOOKUP(AE$3,'All Schools Data view only'!$A:$EC,90,0) -> 0.61780603 | J39: =VLOOKUP(AF$3,'All Schools Data view only'!$A:$EC,90,0) -> 0.34088111 | K39: =VLOOKUP(AG$3,'All Schools Data view only'!$A:$EC,90,0) -> 0.5953273
B40: Cost / Expenditure per pupil | C40: =IF(ISERROR(VLOOKUP(C$2,'All Schools Data view only'!$A:$EC,91,0)),"",VLOOKUP(C$2,'All Schools Data view only'!$A:$EC,91,0)) | D40: =IF(ISERROR(VLOOKUP(D$2,'All Schools Data view only'!$A:$EC,91,0)),"",VLOOKUP(D$2,'All Schools Data view only'!$A:$EC,91,0)) | E40: =IF(ISERROR(VLOOKUP(E$2,'All Schools Data view only'!$A:$EC,91,0)),"",VLOOKUP(E$2,'All Schools Data view only'!$A:$EC,91,0)) | F40: =IF(ISERROR(VLOOKUP(F$2,'All Schools Data view only'!$A:$EC,91,0)),"",VLOOKUP(F$2,'All Schools Data view only'!$A:$EC,91,0)) | G40: =VLOOKUP(AC$3,'All Schools Data view only'!$A:$EC,91,0) -> 1219.9381 | H40: =VLOOKUP(AD$3,'All Schools Data view only'!$A:$EC,91,0) -> 4270.4618 | I40: =VLOOKUP(AE$3,'All Schools Data view only'!$A:$EC,91,0) -> 7514.352 | J40: =VLOOKUP(AF$3,'All Schools Data view only'!$A:$EC,91,0) -> 17054.563 | K40: =VLOOKUP(AG$3,'All Schools Data view only'!$A:$EC,91,0) -> 69270.684
A42: E03 - Education Support Staff | B42: As % of Final Budget Share | C42: =IF(ISERROR(VLOOKUP(C$2,'All Schools Data view only'!$A:$EC,92,0)),"",VLOOKUP(C$2,'All Schools Data view only'!$A:$EC,92,0)) | D42: =IF(ISERROR(VLOOKUP(D$2,'All Schools Data view only'!$A:$EC,92,0)),"",VLOOKUP(D$2,'All Schools Data view only'!$A:$EC,92,0)) | E42: =IF(ISERROR(VLOOKUP(E$2,'All Schools Data view only'!$A:$EC,92,0)),"",VLOOKUP(E$2,'All Schools Data view only'!$A:$EC,92,0)) | F42: =IF(ISERROR(VLOOKUP(F$2,'All Schools Data view only'!$A:$EC,92,0)),"",VLOOKUP(F$2,'All Schools Data view only'!$A:$EC,92,0)) | G42: =VLOOKUP(AC$3,'All Schools Data view only'!$A:$EC,92,0) -> 0.31334396 | H42: =VLOOKUP(AD$3,'All Schools Data view only'!$A:$EC,92,0) -> 0.25323717 | I42: =VLOOKUP(AE$3,'All Schools Data view only'!$A:$EC,92,0) -> 0.12485186 | J42: =VLOOKUP(AF$3,'All Schools Data view only'!$A:$EC,92,0) -> 0.41586935 | K42: =VLOOKUP(AG$3,'All Schools Data view only'!$A:$EC,92,0) -> 0.10926647
B43: As % of Total Rev. Income | C43: =IF(ISERROR(VLOOKUP(C$2,'All Schools Data view only'!$A:$EC,93,0)),"",VLOOKUP(C$2,'All Schools Data view only'!$A:$EC,93,0)) | D43: =IF(ISERROR(VLOOKUP(D$2,'All Schools Data view only'!$A:$EC,93,0)),"",VLOOKUP(D$2,'All Schools Data view only'!$A:$EC,93,0)) | E43: =IF(ISERROR(VLOOKUP(E$2,'All Schools Data view only'!$A:$EC,93,0)),"",VLOOKUP(E$2,'All Schools Data view only'!$A:$EC,93,0)) | F43: =IF(ISERROR(VLOOKUP(F$2,'All Schools Data view only'!$A:$EC,93,0)),"",VLOOKUP(F$2,'All Schools Data view only'!$A:$EC,93,0)) | G43: =VLOOKUP(AC$3,'All Schools Data view only'!$A:$EC,93,0) -> 0.23267723 | H43: =VLOOKUP(AD$3,'All Schools Data view only'!$A:$EC,93,0) -> 0.20532144 | I43: =VLOOKUP(AE$3,'All Schools Data view only'!$A:$EC,93,0) -> 0.10737954 | J43: =VLOOKUP(AF$3,'All Schools Data view only'!$A:$EC,93,0) -> 0.3873466 | K43: =VLOOKUP(AG$3,'All Schools Data view only'!$A:$EC,93,0) -> 0.08884614
B44: As % of Total Rev. Expenditure | C44: =IF(ISERROR(VLOOKUP(C$2,'All Schools Data view only'!$A:$EC,94,0)),"",VLOOKUP(C$2,'All Schools Data view only'!$A:$EC,94,0)) | D44: =IF(ISERROR(VLOOKUP(D$2,'All Schools Data view only'!$A:$EC,94,0)),"",VLOOKUP(D$2,'All Schools Data view only'!$A:$EC,94,0)) | E44: =IF(ISERROR(VLOOKUP(E$2,'All Schools Data view only'!$A:$EC,94,0)),"",VLOOKUP(E$2,'All Schools Data view only'!$A:$EC,94,0)) | F44: =IF(ISERROR(VLOOKUP(F$2,'All Schools Data view only'!$A:$EC,94,0)),"",VLOOKUP(F$2,'All Schools Data view only'!$A:$EC,94,0)) | G44: =VLOOKUP(AC$3,'All Schools Data view only'!$A:$EC,94,0) -> 0.23676466 | H44: =VLOOKUP(AD$3,'All Schools Data view only'!$A:$EC,94,0) -> 0.20044463 | I44: =VLOOKUP(AE$3,'All Schools Data view only'!$A:$EC,94,0) -> 0.10582887 | J44: =VLOOKUP(AF$3,'All Schools Data view only'!$A:$EC,94,0) -> 0.38893856 | K44: =VLOOKUP(AG$3,'All Schools Data view only'!$A:$EC,94,0) -> 0.088677844
B45: Cost / Expenditure per pupil | C45: =IF(ISERROR(VLOOKUP(C$2,'All Schools Data view only'!$A:$EC,95,0)),"",VLOOKUP(C$2,'All Schools Data view only'!$A:$EC,95,0)) | D45: =IF(ISERROR(VLOOKUP(D$2,'All Schools Data view only'!$A:$EC,95,0)),"",VLOOKUP(D$2,'All Schools Data view only'!$A:$EC,95,0)) | E45: =IF(ISERROR(VLOOKUP(E$2,'All Schools Data view only'!$A:$EC,95,0)),"",VLOOKUP(E$2,'All Schools Data view only'!$A:$EC,95,0)) | F45: =IF(ISERROR(VLOOKUP(F$2,'All Schools Data view only'!$A:$EC,95,0)),"",VLOOKUP(F$2,'All Schools Data view only'!$A:$EC,95,0)) | G45: =VLOOKUP(AC$3,'All Schools Data view only'!$A:$EC,95,0) -> 2519.5439 | H45: =VLOOKUP(AD$3,'All Schools Data view only'!$A:$EC,95,0) -> 1914.589 | I45: =VLOOKUP(AE$3,'All Schools Data view only'!$A:$EC,95,0) -> 1302.8311 | J45: =VLOOKUP(AF$3,'All Schools Data view only'!$A:$EC,95,0) -> 19731.06 | K45: =VLOOKUP(AG$3,'All Schools Data view only'!$A:$EC,95,0) -> 8739.6765
A47: E04 - Premises Staff | B47: As % of Final Budget Share | C47: =IF(ISERROR(VLOOKUP(C$2,'All Schools Data view only'!$A:$EC,96,0)),"",VLOOKUP(C$2,'All Schools Data view only'!$A:$EC,96,0)) | D47: =IF(ISERROR(VLOOKUP(D$2,'All Schools Data view only'!$A:$EC,96,0)),"",VLOOKUP(D$2,'All Schools Data view only'!$A:$EC,96,0)) | E47: =IF(ISERROR(VLOOKUP(E$2,'All Schools Data view only'!$A:$EC,96,0)),"",VLOOKUP(E$2,'All Schools Data view only'!$A:$EC,96,0)) | F47: =IF(ISERROR(VLOOKUP(F$2,'All Schools Data view only'!$A:$EC,96,0)),"",VLOOKUP(F$2,'All Schools Data view only'!$A:$EC,96,0)) | G47: =VLOOKUP(AC$3,'All Schools Data view only'!$A:$EC,96,0) -> 0.023175417 | H47: =VLOOKUP(AD$3,'All Schools Data view only'!$A:$EC,96,0) -> 0.028317638 | I47: =VLOOKUP(AE$3,'All Schools Data view only'!$A:$EC,96,0) -> 0.016316658 | J47: =VLOOKUP(AF$3,'All Schools Data view only'!$A:$EC,96,0) -> 0.015512955 | K47: =VLOOKUP(AG$3,'All Schools Data view only'!$A:$EC,96,0) -> 0.0076024123
B48: As % of Total Rev. Income | C48: =IF(ISERROR(VLOOKUP(C$2,'All Schools Data view only'!$A:$EC,97,0)),"",VLOOKUP(C$2,'All Schools Data view only'!$A:$EC,97,0)) | D48: =IF(ISERROR(VLOOKUP(D$2,'All Schools Data view only'!$A:$EC,97,0)),"",VLOOKUP(D$2,'All Schools Data view only'!$A:$EC,97,0)) | E48: =IF(ISERROR(VLOOKUP(E$2,'All Schools Data view only'!$A:$EC,97,0)),"",VLOOKUP(E$2,'All Schools Data view only'!$A:$EC,97,0)) | F48: =IF(ISERROR(VLOOKUP(F$2,'All Schools Data view only'!$A:$EC,97,0)),"",VLOOKUP(F$2,'All Schools Data view only'!$A:$EC,97,0)) | G48: =VLOOKUP(AC$3,'All Schools Data view only'!$A:$EC,97,0) -> 0.016637343 | H48: =VLOOKUP(AD$3,'All Schools Data view only'!$A:$EC,97,0) -> 0.023370893 | I48: =VLOOKUP(AE$3,'All Schools Data view only'!$A:$EC,97,0) -> 0.013956643 | J48: =VLOOKUP(AF$3,'All Schools Data view only'!$A:$EC,97,0) -> 0.014671388 | K48: =VLOOKUP(AG$3,'All Schools Data view only'!$A:$EC,97,0) -> 0.0069067673
B49: As % of Total Rev. Expenditure | C49: =IF(ISERROR(VLOOKUP(C$2,'All Schools Data view only'!$A:$EC,98,0)),"",VLOOKUP(C$2,'All Schools Data view only'!$A:$EC,98,0)) | D49: =IF(ISERROR(VLOOKUP(D$2,'All Schools Data view only'!$A:$EC,98,0)),"",VLOOKUP(D$2,'All Schools Data view only'!$A:$EC,98,0)) | E49: =IF(ISERROR(VLOOKUP(E$2,'All Schools Data view only'!$A:$EC,98,0)),"",VLOOKUP(E$2,'All Schools Data view only'!$A:$EC,98,0)) | F49: =IF(ISERROR(VLOOKUP(F$2,'All Schools Data view only'!$A:$EC,98,0)),"",VLOOKUP(F$2,'All Schools Data view only'!$A:$EC,98,0)) | G49: =VLOOKUP(AC$3,'All Schools Data view only'!$A:$EC,98,0) -> 0.016623056 | H49: =VLOOKUP(AD$3,'All Schools Data view only'!$A:$EC,98,0) -> 0.022839226 | I49: =VLOOKUP(AE$3,'All Schools Data view only'!$A:$EC,98,0) -> 0.013802367 | J49: =VLOOKUP(AF$3,'All Schools Data view only'!$A:$EC,98,0) -> 0.014639295 | K49: =VLOOKUP(AG$3,'All Schools Data view only'!$A:$EC,98,0) -> 0.0068805273
B50: Cost / Expenditure per pupil | C50: =IF(ISERROR(VLOOKUP(C$2,'All Schools Data view only'!$A:$EC,99,0)),"",VLOOKUP(C$2,'All Schools Data view only'!$A:$EC,99,0)) | D50: =IF(ISERROR(VLOOKUP(D$2,'All Schools Data view only'!$A:$EC,99,0)),"",VLOOKUP(D$2,'All Schools Data view only'!$A:$EC,99,0)) | E50: =IF(ISERROR(VLOOKUP(E$2,'All Schools Data view only'!$A:$EC,99,0)),"",VLOOKUP(E$2,'All Schools Data view only'!$A:$EC,99,0)) | F50: =IF(ISERROR(VLOOKUP(F$2,'All Schools Data view only'!$A:$EC,99,0)),"",VLOOKUP(F$2,'All Schools Data view only'!$A:$EC,99,0)) | G50: =VLOOKUP(AC$3,'All Schools Data view only'!$A:$EC,99,0) -> 184.74061 | H50: =VLOOKUP(AD$3,'All Schools Data view only'!$A:$EC,99,0) -> 210.59851 | I50: =VLOOKUP(AE$3,'All Schools Data view only'!$A:$EC,99,0) -> 168.36014 | J50: =VLOOKUP(AF$3,'All Schools Data view only'!$A:$EC,99,0) -> 818.47316 | K50: =VLOOKUP(AG$3,'All Schools Data view only'!$A:$EC,99,0) -> 561.2025
A52: E05 - Admin & Clerical Staff | B52: As % of Final Budget Share | C52: =IF(ISERROR(VLOOKUP(C$2,'All Schools Data view only'!$A:$EC,100,0)),"",VLOOKUP(C$2,'All Schools Data view only'!$A:$EC,100,0)) | D52: =IF(ISERROR(VLOOKUP(D$2,'All Schools Data view only'!$A:$EC,100,0)),"",VLOOKUP(D$2,'All Schools Data view only'!$A:$EC,100,0)) | E52: =IF(ISERROR(VLOOKUP(E$2,'All Schools Data view only'!$A:$EC,100,0)),"",VLOOKUP(E$2,'All Schools Data view only'!$A:$EC,100,0)) | F52: =IF(ISERROR(VLOOKUP(F$2,'All Schools Data view only'!$A:$EC,100,0)),"",VLOOKUP(F$2,'All Schools Data view only'!$A:$EC,100,0)) | G52: =VLOOKUP(AC$3,'All Schools Data view only'!$A:$EC,100,0) -> 0.044686838 | H52: =VLOOKUP(AD$3,'All Schools Data view only'!$A:$EC,100,0) -> 0.051902375 | I52: =VLOOKUP(AE$3,'All Schools Data view only'!$A:$EC,100,0) -> 0.074298882 | J52: =VLOOKUP(AF$3,'All Schools Data view only'!$A:$EC,100,0) -> 0.035918837 | K52: =VLOOKUP(AG$3,'All Schools Data view only'!$A:$EC,100,0) -> 0.054986912
B53: As % of Total Rev. Income | C53: =IF(ISERROR(VLOOKUP(C$2,'All Schools Data view only'!$A:$EC,101,0)),"",VLOOKUP(C$2,'All Schools Data view only'!$A:$EC,101,0)) | D53: =IF(ISERROR(VLOOKUP(D$2,'All Schools Data view only'!$A:$EC,101,0)),"",VLOOKUP(D$2,'All Schools Data view only'!$A:$EC,101,0)) | E53: =IF(ISERROR(VLOOKUP(E$2,'All Schools Data view only'!$A:$EC,101,0)),"",VLOOKUP(E$2,'All Schools Data view only'!$A:$EC,101,0)) | F53: =IF(ISERROR(VLOOKUP(F$2,'All Schools Data view only'!$A:$EC,101,0)),"",VLOOKUP(F$2,'All Schools Data view only'!$A:$EC,101,0)) | G53: =VLOOKUP(AC$3,'All Schools Data view only'!$A:$EC,101,0) -> 0.031966396 | H53: =VLOOKUP(AD$3,'All Schools Data view only'!$A:$EC,101,0) -> 0.041920049 | I53: =VLOOKUP(AE$3,'All Schools Data view only'!$A:$EC,101,0) -> 0.063703577 | J53: =VLOOKUP(AF$3,'All Schools Data view only'!$A:$EC,101,0) -> 0.033859425 | K53: =VLOOKUP(AG$3,'All Schools Data view only'!$A:$EC,101,0) -> 0.041959778
...

Sheet All Schools Data view only
A1: 1 | B1: 2 | C1: 3 | D1: 4 | E1: 5 | F1: 6 | G1: 7 | H1: 8 | I1: 9 | J1: 10 | K1: 11 | L1: 12 | M1: 13 | N1: 14 | O1: 15 | P1: 16 | Q1: 17 | R1: 18 | S1: 19 | T1: 20 | U1: 21 | V1: 22 | W1: 23 | X1: 24 | Y1: 25 | Z1: 26 | AA1: 27 | AB1: 28 | AC1: 29 | AD1: 30 | AE1: 31 | AF1: 32 | AG1: 33 | AH1: 34 | AI1: 35 | AJ1: 36 | AK1: 37 | AL1: 38 | AM1: 39 | AN1: 40 | AO1: 41 | AP1: 42 | AQ1: 43 | AR1: 44 | AS1: 45 | AT1: 46 | AU1: 47 | AV1: 48 | AW1: 49 | AX1: 50 | AY1: 51 | AZ1: 52 | BA1: 53 | BB1: 54 | BC1: 55 | BD1: 56 | BE1: 57 | BF1: 58 | BG1: 59 | BH1: 60 | BI1: 61 | BJ1: 62 | BK1: 63 | BL1: 64 | BM1: 65 | BN1: 66 | BO1: 67 | BP1: 68 | BQ1: 69 | BR1: 70 | BS1: 71 | BT1: 72 | BU1: 73 | BV1: 74 | BW1: 75 | BX1: 76 | BY1: 77 | BZ1: 78 | CA1: 79 | CB1: 80 | CC1: 81 | CD1: 82 | CE1: 83 | CF1: 84 | CG1: 85 | CH1: 86 | CI1: 87 | CJ1: 88 | CK1: 89 | CL1: 90 | CM1: 91 | CN1: 92 | CO1: 93 | CP1: 94 | CQ1: 95 | CR1: 96 | CS1: 97 | CT1: 98 | CU1: 99 | CV1: 100 | CW1: 101 | CX1: 102 | CY1: 103 | CZ1: 104 | DA1: 105 | DB1: 106 | DC1: 107 | DD1: 108 | DE1: 109 | DF1: 110 | DG1: 111 | DH1: 112 | DI1: 113 | DJ1: 114 | DK1: 115 | DL1: 116 | DM1: 117 | DN1: 118 | DO1: 119 | DP1: 120 | DQ1: 121 | DR1: 122 | DS1: 123 | DT1: 124 | DU1: 125 | DV1: 126 | DW1: 127 | DX1: 128 | DY1: 129 | DZ1: 130 | EA1: 131 | EB1: 132 | EC1: 133
A2: 2025-26 CFR Data Return to DfE | BH2: Excludes Community Focussed Extended Schools Income | BI2: Excludes Community Focussed Extended Schools Expenditure | BK2: Excl Community Focussed Revenue Balance | BL2: Excl Community Focussed Revenue Balance | BP2: I01 - Funds Del. By LA | BR2: I02 - Sixth form funding | BT2: I03 - SEN Funding | BV2: I04 - Ethnic Minority | BX2: I05 - Pupil Premium | BZ2: I06 - Other Gov. Grants | CB2: I07 - Other Grants & Payments | CD2: I08a &b Inc. from Lettings & Other Facilities & Services | CF2: I12 Inc. from Contributions | CH2: I13 Donations / Voluntary Funds | CJ2: E01, E02, E26 - Teaching Staff | CN2: E03 Education Support Staff | CR2: E04 Premises Staff | CV2: E05 Admin & Clerical Staff | CZ2: Total Employee Costs | DD2: E12 Building Maintenance & Improvement | DG2: E15 Water | DI2: E16 Energy | DL2: E18 Other Occupation Costs | DO2: E19 Learning Resources | DS2: E22 Administrative Supplies | DV2: E27 Brought in Prof Services- Curriculum | DY2: E25 Catering Supplies | EA2: E14 Contract Cleaning | EC2: Pupil Premium Free School Meals Data 2025/26
A3: DfE No | B3: Cost Centre | C3: School | D3: I01 - Funds Del. By LA | E3: I02 - Sixth form funding | F3: I03 - SEN Funding | G3: I04 - Ethnic Minority | H3: I05 - Pupil Premium | I3: I06 - Other Gov. Grants | J3: I07 - Other Grants & Payments | K3: I08a - Income from Lettings | L3: I08b - Income from other Facilities & Services | M3: I09 - Income from Catering | N3: I10 - Supply teacher ins claims | O3: I11 - receipts from other ins claims | P3: I12 - Income from Contributions | Q3: I13 - Donations | R3: I15 - Pupil Focussed Extended School Funding and/or Grants | S3: I16 - Community Focussed Extended School Funding and/or Grants | T3: I17 - Community Focussed Extended School Facilities Income | U3: E01 - Teaching Staff | V3: E02 - Supply Staff | W3: E03 - Educ Support Staff | X3: E04 - Premises Staff | Y3: E05 -Admin & Clerical | Z3: E06 - Catering Staff | AA3: E07 - Cost of Other Staff | AB3: E08 - Indirect Employee Exp | AC3: E09 - Staff Dev & Training | AD3: E10 - Supply Teacher Ins | AE3: E11 - Staff Related Ins | AF3: E12 - Building Maint & Imp | AG3: E13 - Grounds Maint & Impt | AH3: E14 - Contract Cleaning | AI3: E15 - Water | AJ3: E16 - Energy | AK3: E17 - Rates | AL3: E18 - Other Occup. Costs | AM3: E19 - Learning Resources | AN3: E20a - Connectivity | AO3: E20b - Onsite Servers | AP3: E20c - IT Learning Resources | AQ3: E20d - Admin, Software & Systems | AR3: E20e - Laptops, Desktops & Tablets | AS3: E20f - Other Hardware | AT3: E20g - IT Support | AU3: E21 - Exam fees | AV3: E22 - Admin Supplies | AW3: E23 - Other Ins Premiums | AX3: E24 - Special Facilities | AY3: E25 - Catering Supplies | AZ3: E26 - Agency Supply Staff | BA3: E27 - Bought in Proff. Services (Curric) | BB3: E28a - Bought in Prof Services (other) | BC3: E28b - Bought in Prof Services (PFI) | BD3: E29 - Loan Interest | BE3: E30 - RCCO | BF3: E31 - Community Focussed Extended School Staff | BG3: E32 - Community Focussed Extended School Costs | BH3: Total Revenue Income | BI3: Total Revenue Expenditure | BJ3: Net in Year Rev Inc / (Exp) | BK3: Rev Balance b/fwd from 2024-25 | BL3: Rev Balance C/fwd to 2026-27 | BM3: Pupil Nos 2025-26 | BN3: Final Budget Share 2025-26 | BP3: As % of Total Revenue Income | BQ3: Income Per Pupil | BR3: As % of Total Revenue Income | BS3: Income Per Pupil | BT3: As % of Total Revenue Income | BU3: Income Per Pupil | BV3: As % of Total Revenue Income | BW3: Income Per Pupil | BX3: As % of Total Revenue Income | BY3: Income Per Pupil | BZ3: As % of Total Revenue Income | CA3: Income Per Pupil | CB3: As % of Total Revenue Income | CC3: Income Per Pupil | CD3: As % of Total Revenue Income | CE3: Income Per Pupil | CF3: As % of Total Revenue Income | CG3: Income Per Pupil | CH3: As % of Total Revenue Income | CI3: Income Per Pupil | CJ3: As % of Final Budget Share | CK3: As % of Total Revenue Income | CL3: As % of Total Rev Expenditure | CM3: Cost per Pupil | CN3: As % of Final Budget Share | CO3: As % of Total Revenue Income | CP3: As % of Total Rev Expenditure | CQ3: Cost per Pupil | CR3: As % of Final Budget Share | CS3: As % of Total Revenue Income | CT3: As % of Total Rev Expenditure | CU3: Cost per Pupil | CV3: As % of Final Budget Share | CW3: As % of Total Revenue Income | CX3: As % of Total Rev Expenditure | CY3: Cost per Pupil | CZ3: As % of Final Budget Share | DA3: As % of in year Revenue Income | DB3: As % of Total Rev Expenditure | DC3: Cost / Expenditure per Pupil | DD3: As % of Final Budget Share | DE3: As % of Total Rev Expenditure | DF3: Cost / Expenditure per pupil | DG3: As % of Total Rev Expenditure | DH3: Cost per Pupil | DI3: As % of Final Budget Share | DJ3: As % of Total Rev Expenditure | DK3: Cost per pupil | DL3: As % of Final Budget Share | DM3: As % of Total Rev Expenditure | DN3: Cost per pupil | DO3: As % of Final Budget Share | DP3: As % of Total Revenue Income | DQ3: As % of Total Rev Expenditure | DR3: Expenditure per Pupil | DS3: As % of Final Budget Share | DT3: As % of Total Rev Expenditure | DU3: Cost per pupil | DV3: As % of Final Budget Share | DW3: As % of Total Rev Expenditure | DX3: Cost per pupil | DY3: As % of Total Rev Expenditure | DZ3: Cost / Expenditure per pupil | EA3: As % of Total Rev Expenditure | EB3: Cost / Expenditure per pupil
A4: 1001 | B4: 10131 | C4: Hampden Way Nursery School | D4: =IFERROR(_xlfn.XLOOKUP($A4,CFR20252026_BenchMarkDataReport!B:B,CFR20252026_BenchMarkDataReport!S:S),0) -> 0 | E4: =IFERROR(_xlfn.XLOOKUP($A4,CFR20252026_BenchMarkDataReport!C:C,CFR20252026_BenchMarkDataReport!T:T),0) -> 0 | F4: =IFERROR(_xlfn.XLOOKUP($A4,CFR20252026_BenchMarkDataReport!D:D,CFR20252026_BenchMarkDataReport!U:U),0) -> 0 | G4: =IFERROR(_xlfn.XLOOKUP($A4,CFR20252026_BenchMarkDataReport!E:E,CFR20252026_BenchMarkDataReport!V:V),0) -> 0 | H4: =IFERROR(_xlfn.XLOOKUP($A4,CFR20252026_BenchMarkDataReport!F:F,CFR20252026_BenchMarkDataReport!W:W),0) -> 0 | I4: =IFERROR(_xlfn.XLOOKUP($A4,CFR20252026_BenchMarkDataReport!G:G,CFR20252026_BenchMarkDataReport!X:X),0) -> 0 | J4: =IFERROR(_xlfn.XLOOKUP($A4,CFR20252026_BenchMarkDataReport!H:H,CFR20252026_BenchMarkDataReport!Y:Y),0) -> 0 | K4: =IFERROR(_xlfn.XLOOKUP($A4,CFR20252026_BenchMarkDataReport!I:I,CFR20252026_BenchMarkDataReport!Z:Z),0) -> 0 | L4: =IFERROR(_xlfn.XLOOKUP($A4,CFR20252026_BenchMarkDataReport!J:J,CFR20252026_BenchMarkDataReport!AA:AA),0) -> 0 | M4: =IFERROR(_xlfn.XLOOKUP($A4,CFR20252026_BenchMarkDataReport!K:K,CFR20252026_BenchMarkDataReport!AB:AB),0) -> 0 | N4: =IFERROR(_xlfn.XLOOKUP($A4,CFR20252026_BenchMarkDataReport!L:L,CFR20252026_BenchMarkDataReport!AC:AC),0) -> 0 | O4: =IFERROR(_xlfn.XLOOKUP($A4,CFR20252026_BenchMarkDataReport!M:M,CFR20252026_BenchMarkDataReport!AD:AD),0) -> 0 | P4: =IFERROR(_xlfn.XLOOKUP($A4,CFR20252026_BenchMarkDataReport!N:N,CFR20252026_BenchMarkDataReport!AE:AE),0) -> 0 | Q4: =IFERROR(_xlfn.XLOOKUP($A4,CFR20252026_BenchMarkDataReport!O:O,CFR20252026_BenchMarkDataReport!AF:AF),0) -> 0 | R4: =IFERROR(_xlfn.XLOOKUP($A4,CFR20252026_BenchMarkDataReport!P:P,CFR20252026_BenchMarkDataReport!AG:AG),0) -> 0 | S4: =IFERROR(_xlfn.XLOOKUP($A4,CFR20252026_BenchMarkDataReport!Q:Q,CFR20252026_BenchMarkDataReport!AH:AH),0) -> 0 | T4: =IFERROR(_xlfn.XLOOKUP($A4,CFR20252026_BenchMarkDataReport!R:R,CFR20252026_BenchMarkDataReport!AI:AI),0) -> 0 | U4: =IFERROR(_xlfn.XLOOKUP($A4,CFR20252026_BenchMarkDataReport!S:S,CFR20252026_BenchMarkDataReport!AJ:AJ),0) -> 0 | V4: =IFERROR(_xlfn.XLOOKUP($A4,CFR20252026_BenchMarkDataReport!T:T,CFR20252026_BenchMarkDataReport!AK:AK),0) -> 0 | W4: =IFERROR(_xlfn.XLOOKUP($A4,CFR20252026_BenchMarkDataReport!U:U,CFR20252026_BenchMarkDataReport!AL:AL),0) -> 0 | X4: =IFERROR(_xlfn.XLOOKUP($A4,CFR20252026_BenchMarkDataReport!V:V,CFR20252026_BenchMarkDataReport!AM:AM),0) -> 0 | Y4: =IFERROR(_xlfn.XLOOKUP($A4,CFR20252026_BenchMarkDataReport!W:W,CFR20252026_BenchMarkDataReport!AN:AN),0) -> 0 | Z4: =IFERROR(_xlfn.XLOOKUP($A4,CFR20252026_BenchMarkDataReport!X:X,CFR20252026_BenchMarkDataReport!AO:AO),0) -> 0 | AA4: =IFERROR(_xlfn.XLOOKUP($A4,CFR20252026_BenchMarkDataReport!Y:Y,CFR20252026_BenchMarkDataReport!AP:AP),0) -> 0 | AB4: =IFERROR(_xlfn.XLOOKUP($A4,CFR20252026_BenchMarkDataReport!Z:Z,CFR20252026_BenchMarkDataReport!AQ:AQ),0) -> 0 | AC4: =IFERROR(_xlfn.XLOOKUP($A4,CFR20252026_BenchMarkDataReport!AA:AA,CFR20252026_BenchMarkDataReport!AR:AR),0) -> 0 | AD4: =IFERROR(_xlfn.XLOOKUP($A4,CFR20252026_BenchMarkDataReport!AB:AB,CFR20252026_BenchMarkDataReport!AS:AS),0) -> 0 | AE4: =IFERROR(_xlfn.XLOOKUP($A4,CFR20252026_BenchMarkDataReport!AC:AC,CFR20252026_BenchMarkDataReport!AT:AT),0) -> 0 | AF4: =IFERROR(_xlfn.XLOOKUP($A4,CFR20252026_BenchMarkDataReport!AD:AD,CFR20252026_BenchMarkDataReport!AU:AU),0) -> 0 | AG4: =IFERROR(_xlfn.XLOOKUP($A4,CFR20252026_BenchMarkDataReport!AE:AE,CFR20252026_BenchMarkDataReport!AV:AV),0) -> 0 | AH4: =IFERROR(_xlfn.XLOOKUP($A4,CFR20252026_BenchMarkDataReport!AF:AF,CFR20252026_BenchMarkDataReport!AW:AW),0) -> 0 | AI4: =IFERROR(_xlfn.XLOOKUP($A4,CFR20252026_BenchMarkDataReport!AG:AG,CFR20252026_BenchMarkDataReport!AX:AX),0) -> 0 | AJ4: =IFERROR(_xlfn.XLOOKUP($A4,CFR20252026_BenchMarkDataReport!AH:AH,CFR20252026_BenchMarkDataReport!AY:AY),0) -> 0 | AK4: =IFERROR(_xlfn.XLOOKUP($A4,CFR20252026_BenchMarkDataReport!AI:AI,CFR20252026_BenchMarkDataReport!AZ:AZ),0) -> 0 | AL4: =IFERROR(_xlfn.XLOOKUP($A4,CFR20252026_BenchMarkDataReport!AJ:AJ,CFR20252026_BenchMarkDataReport!BA:BA),0) -> 0 | AM4: =IFERROR(_xlfn.XLOOKUP($A4,CFR20252026_BenchMarkDataReport!AK:AK,CFR20252026_BenchMarkDataReport!BB:BB),0) -> 0 | AN4: =IFERROR(_xlfn.XLOOKUP($A4,CFR20252026_BenchMarkDataReport!AL:AL,CFR20252026_BenchMarkDataReport!BC:BC),0) -> 0 | AO4: =IFERROR(_xlfn.XLOOKUP($A4,CFR20252026_BenchMarkDataReport!AM:AM,CFR20252026_BenchMarkDataReport!BD:BD),0) -> 0 | AP4: =IFERROR(_xlfn.XLOOKUP($A4,CFR20252026_BenchMarkDataReport!AN:AN,CFR20252026_BenchMarkDataReport!BE:BE),0) -> 0 | AQ4: =IFERROR(_xlfn.XLOOKUP($A4,CFR20252026_BenchMarkDataReport!AO:AO,CFR20252026_BenchMarkDataReport!BF:BF),0) -> 0 | AR4: =IFERROR(_xlfn.XLOOKUP($A4,CFR20252026_BenchMarkDataReport!AP:AP,CFR20252026_BenchMarkDataReport!BG:BG),0) -> 0 | AS4: =IFERROR(_xlfn.XLOOKUP($A4,CFR20252026_BenchMarkDataReport!AQ:AQ,CFR20252026_BenchMarkDataReport!BH:BH),0) -> 0 | AT4: =IFERROR(_xlfn.XLOOKUP($A4,CFR20252026_BenchMarkDataReport!AR:AR,CFR20252026_BenchMarkDataReport!BI:BI),0) -> 0 | AU4: =IFERROR(_xlfn.XLOOKUP($A4,CFR20252026_BenchMarkDataReport!AS:AS,CFR20252026_BenchMarkDataReport!BJ:BJ),0) -> 0 | AV4: =IFERROR(_xlfn.XLOOKUP($A4,CFR20252026_BenchMarkDataReport!AT:AT,CFR20252026_BenchMarkDataReport!BK:BK),0) -> 0 | AW4: =IFERROR(_xlfn.XLOOKUP($A4,CFR20252026_BenchMarkDataReport!AU:AU,CFR20252026_BenchMarkDataReport!BL:BL),0) -> 0 | AX4: =IFERROR(_xlfn.XLOOKUP($A4,CFR20252026_BenchMarkDataReport!AV:AV,CFR20252026_BenchMarkDataReport!BM:BM),0) -> 0 | AY4: =IFERROR(_xlfn.XLOOKUP($A4,CFR20252026_BenchMarkDataReport!AW:AW,CFR20252026_BenchMarkDataReport!BN:BN),0) -> 0 | AZ4: =IFERROR(_xlfn.XLOOKUP($A4,CFR20252026_BenchMarkDataReport!AX:AX,CFR20252026_BenchMarkDataReport!BO:BO),0) -> 0 | BA4: =IFERROR(_xlfn.XLOOKUP($A4,CFR20252026_BenchMarkDataReport!AY:AY,CFR20252026_BenchMarkDataReport!BP:BP),0) -> 0 | BB4: =IFERROR(_xlfn.XLOOKUP($A4,CFR20252026_BenchMarkDataReport!AZ:AZ,CFR20252026_BenchMarkDataReport!BQ:BQ),0) -> 0 | BC4: =IFERROR(_xlfn.XLOOKUP($A4,CFR20252026_BenchMarkDataReport!BA:BA,CFR20252026_BenchMarkDataReport!BR:BR),0) -> 0 | BD4: =IFERROR(_xlfn.XLOOKUP($A4,CFR20252026_BenchMarkDataReport!BB:BB,CFR20252026_BenchMarkDataReport!BS:BS),0) -> 0 | BE4: =IFERROR(_xlfn.XLOOKUP($A4,CFR20252026_BenchMarkDataReport!BC:BC,CFR20252026_BenchMarkDataReport!BT:BT),0) -> 0 | BF4: =IFERROR(_xlfn.XLOOKUP($A4,CFR20252026_BenchMarkDataReport!BD:BD,CFR20252026_BenchMarkDataReport!BU:BU),0) -> 0 | BG4: =IFERROR(_xlfn.XLOOKUP($A4,CFR20252026_BenchMarkDataReport!BE:BE,CFR20252026_BenchMarkDataReport!BV:BV),0) -> 0 | BH4: =SUM(D4:R4) -> 0 | BI4: =SUM(U4:BE4) -> 0 | BJ4: =BH4-BI4 -> 0 | BK4: =IFERROR(_xlfn.XLOOKUP(A4,CFR20252026_BenchMarkDataReport!$B:$B,CFR20252026_BenchMarkDataReport!P:P)+_xlfn.XLOOKUP(A4,CFR20252026_BenchMarkDataReport!$B:$B,CFR20252026_BenchMarkDataReport!Q:Q),0) -> 0 | BL4: =SUM(BJ4:BK4) -> 0 | BM4: ='FEE2 Spring 25 - 26'!K12+'FEE 34 Spring 25 - 26'!K27 -> 81 | BN4: =D4+E4+F4 -> 0 | BO4: N | BP4: =IFERROR(D4/BH4,0) -> 0 | BQ4: =IFERROR(D4/BM4,0) -> 0 | BR4: =IFERROR((E4/BH4),0) -> 0 | BS4: =IFERROR(E4/BM4,0) -> 0 | BT4: =IFERROR((F4/BH4),0) -> 0 | BU4: =IFERROR(F4/BM4,0) -> 0 | BV4: =IFERROR((G4/BH4),0) -> 0 | BW4: =IFERROR(G4/BM4,0) -> 0 | BX4: =IFERROR((H4/BH4),0) -> 0 | BY4: =IFERROR(H4/BM4,0) -> 0 | BZ4: =IFERROR(I4/BH4,0) -> 0 | CA4: =IFERROR(I4/BM4,0) -> 0 | CB4: =IFERROR(J4/BH4,0) -> 0 | CC4: =IFERROR(J4/BM4,0) -> 0 | CD4: =IFERROR((K4+L4)/BH4,0) -> 0 | CE4: =IFERROR((K4+L4)/BM4,0) -> 0 | CF4: =IFERROR(P4/BH4,0) -> 0 | CG4: =IFERROR(P4/BM4,0) -> 0 | CH4: =IFERROR(Q4/BH4,0) -> 0 | CI4: =IFERROR((Q4/BM4),0) -> 0 | CJ4: =IFERROR((U4+V4+AZ4)/BN4,0) -> 0 | CK4: =IFERROR((U4+V4+AZ4)/BH4,0) -> 0 | CL4: =IFERROR((U4+V4+AZ4)/BI4,0) -> 0 | CM4: =IFERROR(((U4+V4+AZ4)/BM4),0) -> 0 | CN4: =IFERROR(W4/BN4,0) -> 0 | CO4: =IFERROR(W4/BH4,0) -> 0 | CP4: =IFERROR(W4/BI4,0) -> 0 | CQ4: =IFERROR((W4/BM4),0) -> 0 | CR4: =IFERROR(X4/BN4,0) -> 0 | CS4: =IFERROR(X4/BH4,0) -> 0 | CT4: =IFERROR(X4/BI4,0) -> 0 | CU4: =IFERROR((X4/BM4),0) -> 0 | CV4: =IFERROR(Y4/BN4,0) -> 0 | CW4: =IFERROR(Y4/BH4,0) -> 0 | CX4: =IFERROR(Y4/BI4,0) -> 0 | CY4: =IFERROR(Y4/BM4,0) -> 0 | CZ4: =IFERROR((U4+V4+W4+X4+Y4+Z4+AA4)/BN4,0) -> 0 | DA4: =IFERROR((U4+V4+W4+X4+Y4+Z4+AA4)/BH4,0) -> 0 | DB4: =IFERROR((U4+V4+W4+X4+Y4+Z4+AA4)/BI4,0) -> 0 | DC4: =IFERROR(((U4+V4+W4+X4+Y4+Z4+AA4)/BM4),0) -> 0 | DD4: =IFERROR(AF4/BN4,0) -> 0 | DE4: =IFERROR(AF4/BI4,0) -> 0 | DF4: =IFERROR((AF4/BM4),0) -> 0 | DG4: =IFERROR(AI4/BI4,0) -> 0 | DH4: =IFERROR((AI4/BM4),0) -> 0 | DI4: =IFERROR(AJ4/BN4,0) -> 0 | DJ4: =IFERROR(AJ4/BI4,0) -> 0 | DK4: =IFERROR((AJ4/BM4),0) -> 0 | DL4: =IFERROR(AL4/BN4,0) -> 0 | DM4: =IFERROR(AL4/BI4,0) -> 0 | DN4: =IFERROR((AL4/BM4),0) -> 0 | DO4: =IFERROR(AM4/BN4,0) -> 0 | DP4: =IFERROR(AM4/BH4,0) -> 0 | DQ4: =IFERROR(AM4/BI4,0) -> 0 | DR4: =IFERROR((AM4/BM4),0) -> 0 | DS4: =IFERROR(AV4/BN4,0) -> 0 | DT4: =IFERROR(AV4/BI4,0) -> 0 | DU4: =IFERROR((AV4/BM4),0) -> 0 | DV4: =IFERROR(BA4/BN4,0) -> 0 | DW4: =IFERROR(BA4/BI4,0) -> 0 | DX4: =IFERROR(BA4/BM4,0) -> 0 | DY4: =IFERROR(AY4/BI4,0) -> 0 | DZ4: =IFERROR((AY4/BM4),0) -> 0 | EA4: =IFERROR(AH4/BI4,0) -> 0 | EB4: =IFERROR((AH4/BM4),0) -> 0 | EC4: =IFERROR(VLOOKUP(A4,PP!$E$3:$S$130,14,0),0) -> 0
A5: 1003 | B5: 10133 | C5: St Margaret's Nursery School | D5: =IFERROR(_xlfn.XLOOKUP($A5,CFR20252026_BenchMarkDataReport!B:B,CFR20252026_BenchMarkDataReport!S:S),0) -> 0 | E5: =IFERROR(_xlfn.XLOOKUP($A5,CFR20252026_BenchMarkDataReport!C:C,CFR20252026_BenchMarkDataReport!T:T),0) -> 0 | F5: =IFERROR(_xlfn.XLOOKUP($A5,CFR20252026_BenchMarkDataReport!D:D,CFR20252026_BenchMarkDataReport!U:U),0) -> 0 | G5: =IFERROR(_xlfn.XLOOKUP($A5,CFR20252026_BenchMarkDataReport!E:E,CFR20252026_BenchMarkDataReport!V:V),0) -> 0 | H5: =IFERROR(_xlfn.XLOOKUP($A5,CFR20252026_BenchMarkDataReport!F:F,CFR20252026_BenchMarkDataReport!W:W),0) -> 0 | I5: =IFERROR(_xlfn.XLOOKUP($A5,CFR20252026_BenchMarkDataReport!G:G,CFR20252026_BenchMarkDataReport!X:X),0) -> 0 | J5: =IFERROR(_xlfn.XLOOKUP($A5,CFR20252026_BenchMarkDataReport!H:H,CFR20252026_BenchMarkDataReport!Y:Y),0) -> 0 | K5: =IFERROR(_xlfn.XLOOKUP($A5,CFR20252026_BenchMarkDataReport!I:I,CFR20252026_BenchMarkDataReport!Z:Z),0) -> 0 | L5: =IFERROR(_xlfn.XLOOKUP($A5,CFR20252026_BenchMarkDataReport!J:J,CFR20252026_BenchMarkDataReport!AA:AA),0) -> 0 | M5: =IFERROR(_xlfn.XLOOKUP($A5,CFR20252026_BenchMarkDataReport!K:K,CFR20252026_BenchMarkDataReport!AB:AB),0) -> 0 | N5: =IFERROR(_xlfn.XLOOKUP($A5,CFR20252026_BenchMarkDataReport!L:L,CFR20252026_BenchMarkDataReport!AC:AC),0) -> 0 | O5: =IFERROR(_xlfn.XLOOKUP($A5,CFR20252026_BenchMarkDataReport!M:M,CFR20252026_BenchMarkDataReport!AD:AD),0) -> 0 | P5: =IFERROR(_xlfn.XLOOKUP($A5,CFR20252026_BenchMarkDataReport!N:N,CFR20252026_BenchMarkDataReport!AE:AE),0) -> 0 | Q5: =IFERROR(_xlfn.XLOOKUP($A5,CFR20252026_BenchMarkDataReport!O:O,CFR20252026_BenchMarkDataReport!AF:AF),0) -> 0 | R5: =IFERROR(_xlfn.XLOOKUP($A5,CFR20252026_BenchMarkDataReport!P:P,CFR20252026_BenchMarkDataReport!AG:AG),0) -> 0 | S5: =IFERROR(_xlfn.XLOOKUP($A5,CFR20252026_BenchMarkDataReport!Q:Q,CFR20252026_BenchMarkDataReport!AH:AH),0) -> 0 | T5: =IFERROR(_xlfn.XLOOKUP($A5,CFR20252026_BenchMarkDataReport!R:R,CFR20252026_BenchMarkDataReport!AI:AI),0) -> 0 | U5: =IFERROR(_xlfn.XLOOKUP($A5,CFR20252026_BenchMarkDataReport!S:S,CFR20252026_BenchMarkDataReport!AJ:AJ),0) -> 0 | V5: =IFERROR(_xlfn.XLOOKUP($A5,CFR20252026_BenchMarkDataReport!T:T,CFR20252026_BenchMarkDataReport!AK:AK),0) -> 0 | W5: =IFERROR(_xlfn.XLOOKUP($A5,CFR20252026_BenchMarkDataReport!U:U,CFR20252026_BenchMarkDataReport!AL:AL),0) -> 0 | X5: =IFERROR(_xlfn.XLOOKUP($A5,CFR20252026_BenchMarkDataReport!V:V,CFR20252026_BenchMarkDataReport!AM:AM),0) -> 0 | Y5: =IFERROR(_xlfn.XLOOKUP($A5,CFR20252026_BenchMarkDataReport!W:W,CFR20252026_BenchMarkDataReport!AN:AN),0) -> 0 | Z5: =IFERROR(_xlfn.XLOOKUP($A5,CFR20252026_BenchMarkDataReport!X:X,CFR20252026_BenchMarkDataReport!AO:AO),0) -> 0 | AA5: =IFERROR(_xlfn.XLOOKUP($A5,CFR20252026_BenchMarkDataReport!Y:Y,CFR20252026_BenchMarkDataReport!AP:AP),0) -> 0 | AB5: =IFERROR(_xlfn.XLOOKUP($A5,CFR20252026_BenchMarkDataReport!Z:Z,CFR20252026_BenchMarkDataReport!AQ:AQ),0) -> 0 | AC5: =IFERROR(_xlfn.XLOOKUP($A5,CFR20252026_BenchMarkDataReport!AA:AA,CFR20252026_BenchMarkDataReport!AR:AR),0) -> 0 | AD5: =IFERROR(_xlfn.XLOOKUP($A5,CFR20252026_BenchMarkDataReport!AB:AB,CFR20252026_BenchMarkDataReport!AS:AS),0) -> 0 | AE5: =IFERROR(_xlfn.XLOOKUP($A5,CFR20252026_BenchMarkDataReport!AC:AC,CFR20252026_BenchMarkDataReport!AT:AT),0) -> 0 | AF5: =IFERROR(_xlfn.XLOOKUP($A5,CFR20252026_BenchMarkDataReport!AD:AD,CFR20252026_BenchMarkDataReport!AU:AU),0) -> 0 | AG5: =IFERROR(_xlfn.XLOOKUP($A5,CFR20252026_BenchMarkDataReport!AE:AE,CFR20252026_BenchMarkDataReport!AV:AV),0) -> 0 | AH5: =IFERROR(_xlfn.XLOOKUP($A5,CFR20252026_BenchMarkDataReport!AF:AF,CFR20252026_BenchMarkDataReport!AW:AW),0) -> 0 | AI5: =IFERROR(_xlfn.XLOOKUP($A5,CFR20252026_BenchMarkDataReport!AG:AG,CFR20252026_BenchMarkDataReport!AX:AX),0) -> 0 | AJ5: =IFERROR(_xlfn.XLOOKUP($A5,CFR20252026_BenchMarkDataReport!AH:AH,CFR20252026_BenchMarkDataReport!AY:AY),0) -> 0 | AK5: =IFERROR(_xlfn.XLOOKUP($A5,CFR20252026_BenchMarkDataReport!AI:AI,CFR20252026_BenchMarkDataReport!AZ:AZ),0) -> 0 | AL5: =IFERROR(_xlfn.XLOOKUP($A5,CFR20252026_BenchMarkDataReport!AJ:AJ,CFR20252026_BenchMarkDataReport!BA:BA),0) -> 0 | AM5: =IFERROR(_xlfn.XLOOKUP($A5,CFR20252026_BenchMarkDataReport!AK:AK,CFR20252026_BenchMarkDataReport!BB:BB),0) -> 0 | AN5: =IFERROR(_xlfn.XLOOKUP($A5,CFR20252026_BenchMarkDataReport!AL:AL,CFR20252026_BenchMarkDataReport!BC:BC),0) -> 0 | AO5: =IFERROR(_xlfn.XLOOKUP($A5,CFR20252026_BenchMarkDataReport!AM:AM,CFR20252026_BenchMarkDataReport!BD:BD),0) -> 0 | AP5: =IFERROR(_xlfn.XLOOKUP($A5,CFR20252026_BenchMarkDataReport!AN:AN,CFR20252026_BenchMarkDataReport!BE:BE),0) -> 0 | AQ5: =IFERROR(_xlfn.XLOOKUP($A5,CFR20252026_BenchMarkDataReport!AO:AO,CFR20252026_BenchMarkDataReport!BF:BF),0) -> 0 | AR5: =IFERROR(_xlfn.XLOOKUP($A5,CFR20252026_BenchMarkDataReport!AP:AP,CFR20252026_BenchMarkDataReport!BG:BG),0) -> 0 | AS5: =IFERROR(_xlfn.XLOOKUP($A5,CFR20252026_BenchMarkDataReport!AQ:AQ,CFR20252026_BenchMarkDataReport!BH:BH),0) -> 0 | AT5: =IFERROR(_xlfn.XLOOKUP($A5,CFR20252026_BenchMarkDataReport!AR:AR,CFR20252026_BenchMarkDataReport!BI:BI),0) -> 0 | AU5: =IFERROR(_xlfn.XLOOKUP($A5,CFR20252026_BenchMarkDataReport!AS:AS,CFR20252026_BenchMarkDataReport!BJ:BJ),0) -> 0 | AV5: =IFERROR(_xlfn.XLOOKUP($A5,CFR20252026_BenchMarkDataReport!AT:AT,CFR20252026_BenchMarkDataReport!BK:BK),0) -> 0 | AW5: =IFERROR(_xlfn.XLOOKUP($A5,CFR20252026_BenchMarkDataReport!AU:AU,CFR20252026_BenchMarkDataReport!BL:BL),0) -> 0 | AX5: =IFERROR(_xlfn.XLOOKUP($A5,CFR20252026_BenchMarkDataReport!AV:AV,CFR20252026_BenchMarkDataReport!BM:BM),0) -> 0 | AY5: =IFERROR(_xlfn.XLOOKUP($A5,CFR20252026_BenchMarkDataReport!AW:AW,CFR20252026_BenchMarkDataReport!BN:BN),0) -> 0 | AZ5: =IFERROR(_xlfn.XLOOKUP($A5,CFR20252026_BenchMarkDataReport!AX:AX,CFR20252026_BenchMarkDataReport!BO:BO),0) -> 0 | BA5: =IFERROR(_xlfn.XLOOKUP($A5,CFR20252026_BenchMarkDataReport!AY:AY,CFR20252026_BenchMarkDataReport!BP:BP),0) -> 0 | BB5: =IFERROR(_xlfn.XLOOKUP($A5,CFR20252026_BenchMarkDataReport!AZ:AZ,CFR20252026_BenchMarkDataReport!BQ:BQ),0) -> 0 | BC5: =IFERROR(_xlfn.XLOOKUP($A5,CFR20252026_BenchMarkDataReport!BA:BA,CFR20252026_BenchMarkDataReport!BR:BR),0) -> 0 | BD5: =IFERROR(_xlfn.XLOOKUP($A5,CFR20252026_BenchMarkDataReport!BB:BB,CFR20252026_BenchMarkDataReport!BS:BS),0) -> 0 | BE5: =IFERROR(_xlfn.XLOOKUP($A5,CFR20252026_BenchMarkDataReport!BC:BC,CFR20252026_BenchMarkDataReport!BT:BT),0) -> 0 | BF5: =IFERROR(_xlfn.XLOOKUP($A5,CFR20252026_BenchMarkDataReport!BD:BD,CFR20252026_BenchMarkDataReport!BU:BU),0) -> 0 | BG5: =IFERROR(_xlfn.XLOOKUP($A5,CFR20252026_BenchMarkDataReport!BE:BE,CFR20252026_BenchMarkDataReport!BV:BV),0) -> 0 | BH5: =SUM(D5:R5) -> 0 | BI5: =SUM(U5:BE5) -> 0 | BJ5: =BH5-BI5 -> 0 | BK5: =IFERROR(_xlfn.XLOOKUP(A5,CFR20252026_BenchMarkDataReport!$B:$B,CFR20252026_BenchMarkDataReport!P:P)+_xlfn.XLOOKUP(A5,CFR20252026_BenchMarkDataReport!$B:$B,CFR20252026_BenchMarkDataReport!Q:Q),0) -> 0 | BL5: =SUM(BJ5:BK5) -> 0 | BM5: ='FEE2 Spring 25 - 26'!K28+'FEE 34 Spring 25 - 26'!K58 -> 96 | BN5: =D5+E5+F5 -> 0 | BO5: N | BP5: =IFERROR(D5/BH5,0) -> 0 | BQ5: =IFERROR(D5/BM5,0) -> 0 | BR5: =IFERROR((E5/BH5),0) -> 0 | BS5: =IFERROR(E5/BM5,0) -> 0 | BT5: =IFERROR((F5/BH5),0) -> 0 | BU5: =IFERROR(F5/BM5,0) -> 0 | BV5: =IFERROR((G5/BH5),0) -> 0 | BW5: =IFERROR(G5/BM5,0) -> 0 | BX5: =IFERROR((H5/BH5),0) -> 0 | BY5: =IFERROR(H5/BM5,0) -> 0 | BZ5: =IFERROR(I5/BH5,0) -> 0 | CA5: =IFERROR(I5/BM5,0) -> 0 | CB5: =IFERROR(J5/BH5,0) -> 0 | CC5: =IFERROR(J5/BM5,0) -> 0 | CD5: =IFERROR((K5+L5)/BH5,0) -> 0 | CE5: =IFERROR((K5+L5)/BM5,0) -> 0 | CF5: =IFERROR(P5/BH5,0) -> 0 | CG5: =IFERROR(P5/BM5,0) -> 0 | CH5: =IFERROR(Q5/BH5,0) -> 0 | CI5: =IFERROR((Q5/BM5),0) -> 0 | CJ5: =IFERROR((U5+V5+AZ5)/BN5,0) -> 0 | CK5: =IFERROR((U5+V5+AZ5)/BH5,0) -> 0 | CL5: =IFERROR((U5+V5+AZ5)/BI5,0) -> 0 | CM5: =IFERROR(((U5+V5+AZ5)/BM5),0) -> 0 | CN5: =IFERROR(W5/BN5,0) -> 0 | CO5: =IFERROR(W5/BH5,0) -> 0 | CP5: =IFERROR(W5/BI5,0) -> 0 | CQ5: =IFERROR((W5/BM5),0) -> 0 | CR5: =IFERROR(X5/BN5,0) -> 0 | CS5: =IFERROR(X5/BH5,0) -> 0 | CT5: =IFERROR(X5/BI5,0) -> 0 | CU5: =IFERROR((X5/BM5),0) -> 0 | CV5: =IFERROR(Y5/BN5,0) -> 0 | CW5: =IFERROR(Y5/BH5,0) -> 0 | CX5: =IFERROR(Y5/BI5,0) -> 0 | CY5: =IFERROR(Y5/BM5,0) -> 0 | CZ5: =IFERROR((U5+V5+W5+X5+Y5+Z5+AA5)/BN5,0) -> 0 | DA5: =IFERROR((U5+V5+W5+X5+Y5+Z5+AA5)/BH5,0) -> 0 | DB5: =IFERROR((U5+V5+W5+X5+Y5+Z5+AA5)/BI5,0) -> 0 | DC5: =IFERROR(((U5+V5+W5+X5+Y5+Z5+AA5)/BM5),0) -> 0 | DD5: =IFERROR(AF5/BN5,0) -> 0 | DE5: =IFERROR(AF5/BI5,0) -> 0 | DF5: =IFERROR((AF5/BM5),0) -> 0 | DG5: =IFERROR(AI5/BI5,0) -> 0 | DH5: =IFERROR((AI5/BM5),0) -> 0 | DI5: =IFERROR(AJ5/BN5,0) -> 0 | DJ5: =IFERROR(AJ5/BI5,0) -> 0 | DK5: =IFERROR((AJ5/BM5),0) -> 0 | DL5: =IFERROR(AL5/BN5,0) -> 0 | DM5: =IFERROR(AL5/BI5,0) -> 0 | DN5: =IFERROR((AL5/BM5),0) -> 0 | DO5: =IFERROR(AM5/BN5,0) -> 0 | DP5: =IFERROR(AM5/BH5,0) -> 0 | DQ5: =IFERROR(AM5/BI5,0) -> 0 | DR5: =IFERROR((AM5/BM5),0) -> 0 | DS5: =IFERROR(AV5/BN5,0) -> 0 | DT5: =IFERROR(AV5/BI5,0) -> 0 | DU5: =IFERROR((AV5/BM5),0) -> 0 | DV5: =IFERROR(BA5/BN5,0) -> 0 | DW5: =IFERROR(BA5/BI5,0) -> 0 | DX5: =IFERROR(BA5/BM5,0) -> 0 | DY5: =IFERROR(AY5/BI5,0) -> 0 | DZ5: =IFERROR((AY5/BM5),0) -> 0 | EA5: =IFERROR(AH5/BI5,0) -> 0 | EB5: =IFERROR((AH5/BM5),0) -> 0 | EC5: =IFERROR(VLOOKUP(A5,PP!$E$3:$S$130,14,0),0) -> 0
